BEGIN:VCALENDAR
VERSION:2.0
PRODID:-//AngusNZ - ECPv6.15.16//NONSGML v1.0//EN
CALSCALE:GREGORIAN
METHOD:PUBLISH
X-ORIGINAL-URL:https://angusnz.com
X-WR-CALDESC:Events for AngusNZ
REFRESH-INTERVAL;VALUE=DURATION:PT1H
X-Robots-Tag:noindex
X-PUBLISHED-TTL:PT1H
BEGIN:VTIMEZONE
TZID:Pacific/Auckland
BEGIN:STANDARD
TZOFFSETFROM:+1300
TZOFFSETTO:+1200
TZNAME:NZST
DTSTART:20240406T140000
END:STANDARD
BEGIN:DAYLIGHT
TZOFFSETFROM:+1200
TZOFFSETTO:+1300
TZNAME:NZDT
DTSTART:20240928T140000
END:DAYLIGHT
BEGIN:STANDARD
TZOFFSETFROM:+1300
TZOFFSETTO:+1200
TZNAME:NZST
DTSTART:20250405T140000
END:STANDARD
BEGIN:DAYLIGHT
TZOFFSETFROM:+1200
TZOFFSETTO:+1300
TZNAME:NZDT
DTSTART:20250927T140000
END:DAYLIGHT
BEGIN:STANDARD
TZOFFSETFROM:+1300
TZOFFSETTO:+1200
TZNAME:NZST
DTSTART:20260404T140000
END:STANDARD
BEGIN:DAYLIGHT
TZOFFSETFROM:+1200
TZOFFSETTO:+1300
TZNAME:NZDT
DTSTART:20260926T140000
END:DAYLIGHT
END:VTIMEZONE
BEGIN:VEVENT
DTSTART;TZID=Pacific/Auckland:20250429T130000
DTEND;TZID=Pacific/Auckland:20250429T130000
DTSTAMP:20260426T001102
CREATED:20241126T200820Z
LAST-MODIFIED:20241126T202139Z
UID:23041-1745931600-1745931600@angusnz.com
SUMMARY:Stern Angus Female & Incalf Heifer Sale
DESCRIPTION:J Fraser\nSterndale\, 963 Cleland Road\, Pleasant Point
URL:https://angusnz.com/event/stern-angus-female-incalf-heifer-sale-3/
LOCATION:Totara Valley
CATEGORIES:Female Sales
END:VEVENT
BEGIN:VEVENT
DTSTART;TZID=Pacific/Auckland:20250430T130000
DTEND;TZID=Pacific/Auckland:20250430T130000
DTSTAMP:20260426T001102
CREATED:20241126T202210Z
LAST-MODIFIED:20251121T024417Z
UID:23043-1746018000-1746018000@angusnz.com
SUMMARY:Meadowslea Angus Female Sale
DESCRIPTION:State Highway 8\, 23 Trotters Road\, Fairlie (5km west of Fairlie)
URL:https://angusnz.com/event/meadowslea-angus-female-sale-4/
LOCATION:Fairlie
CATEGORIES:Female Sales
END:VEVENT
END:VCALENDAR